BEGIN:VCALENDAR
VERSION:2.0
PRODID:-//Kennys Korner - ECPv6.15.20//NONSGML v1.0//EN
CALSCALE:GREGORIAN
METHOD:PUBLISH
X-ORIGINAL-URL:https://kennyskornerny.com
X-WR-CALDESC:Events for Kennys Korner
REFRESH-INTERVAL;VALUE=DURATION:PT1H
X-Robots-Tag:noindex
X-PUBLISHED-TTL:PT1H
BEGIN:VTIMEZONE
TZID:UTC
BEGIN:STANDARD
TZOFFSETFROM:+0000
TZOFFSETTO:+0000
TZNAME:UTC
DTSTART:20250101T000000
END:STANDARD
END:VTIMEZONE
BEGIN:VEVENT
DTSTART;TZID=UTC:20260406T180000
DTEND;TZID=UTC:20260406T200000
DTSTAMP:20260420T190901
CREATED:20260120T001742Z
LAST-MODIFIED:20260413T234435Z
UID:2098-1775498400-1775505600@kennyskornerny.com
SUMMARY:A Night To Remember With Islanders: Calum Ritchie and Marc Gatcomb
DESCRIPTION:Hey Kenny’s Korner Family\, \nThis event has been postponed until further notice. Check back in for updates. \nSee you soon!\nKenny’s Korner 🏒🔥
URL:https://kennyskornerny.com/event/a-night-to-remember-with-islanders-calum-ritchie-and-marc-gatcomb/
LOCATION:Vienna of Roslyn\, 1 Railroad Ave\, Roslyn\, NY\, 11576\, United States
END:VEVENT
END:VCALENDAR