BEGIN:VCALENDAR
VERSION:2.0
PRODID:-//Kennys Korner - ECPv6.15.20//NONSGML v1.0//EN
CALSCALE:GREGORIAN
METHOD:PUBLISH
X-WR-CALNAME:Kennys Korner
X-ORIGINAL-URL:https://kennyskornerny.com
X-WR-CALDESC:Events for Kennys Korner
REFRESH-INTERVAL;VALUE=DURATION:PT1H
X-Robots-Tag:noindex
X-PUBLISHED-TTL:PT1H
BEGIN:VTIMEZONE
TZID:UTC
BEGIN:STANDARD
TZOFFSETFROM:+0000
TZOFFSETTO:+0000
TZNAME:UTC
DTSTART:20240101T000000
END:STANDARD
END:VTIMEZONE
BEGIN:VEVENT
DTSTART;TZID=UTC:20251020T180000
DTEND;TZID=UTC:20251020T180000
DTSTAMP:20260421T035933
CREATED:20250916T201958Z
LAST-MODIFIED:20250916T202323Z
UID:1846-1760983200-1760983200@kennyskornerny.com
SUMMARY:An Evening With 1986 World Series Champions — Howard Johnson\, Bobby Ojeda\, & Dwight “Doc” Gooden
DESCRIPTION:Hey Mets Fans! \nThis is the night you’ve been waiting for… \nOn Monday\, October 20 from 6:00 PM – 8:30 PM at Vienna of Roslyn\, three of your favorite 1986 World Series Champions — Howard Johnson\, Bobby Ojeda & Dwight “Doc” Gooden — are coming together for an unforgettable evening! \n\nHere’s what’s waiting for you: \n\n\nLive Q&A Session – Hear the untold stories straight from the legends themselves.\n\n\n\nSigned Memorabilia – Every ticket holder goes home with autographed keepsakes.\n\n\n\nIncredible Food & Drinks – Enjoy the best from The Vienna’s newly renovated\, state-of-the-art venue.\n\n\n\nPro Photo Opportunity – Capture the moment with Mets icons forever.\n\n\n\nThis isn’t just another night out – it’s the ultimate fan-to-athlete connection. Relive the glory days\, laugh along to behind-the-scenes stories\, and celebrate Mets history with the champions who lived it. \nSpots are limited\, and an experience like this doesn’t come around often… so grab your tickets now before they’re gone! \nTicket Options: \n\n$200 VIP – Be one of the first through the doors! Enjoy early access (20 minutes before everyone else)\, priority seating\, and be first in line for photos with the champs.\n$165 General Admission – Includes memorabilia\, food & drinks\, and photo opportunity after VIP guests.\n\nVenmo me @ kennyskorner with your e-mail address\, # of tickets & option choice.
URL:https://kennyskornerny.com/event/an-evening-with-1986-world-series-champions/
LOCATION:Vienna of Roslyn\, 1 Railroad Ave\, Roslyn\, NY\, 11576\, United States
ATTACH;FMTTYPE=image/png:https://kennyskornerny.com/wp-content/uploads/2025/09/image-17.png
END:VEVENT
BEGIN:VEVENT
DTSTART;TZID=UTC:20250627T180000
DTEND;TZID=UTC:20250627T210000
DTSTAMP:20260421T035933
CREATED:20250529T203141Z
LAST-MODIFIED:20250529T203531Z
UID:1694-1751047200-1751058000@kennyskornerny.com
SUMMARY:Islanders #1 Draft Pick Watch Party with JG Pageau
DESCRIPTION:Join Kenny’s Korner at The Tap Room in Garden City for an exclusive Islanders #1 Draft Pick Watch Party featuring special guest JG Pageau. \nDate: Friday\, June 27\nTime: 6:00 PM\nLocation: 919 Franklin Avenue\, Garden City \nThis exciting event will include a live Q&A with JG Pageau\, professional photo opportunities\, food and drinks\, and the chance to purchase autographed memorabilia. \nSpace is limited. To reserve your spot\, send a direct message to @kennyzzzkorner on Instagram.
URL:https://kennyskornerny.com/event/islanders-1-draft-pick-watch-party-with-jg-pageau/
LOCATION:Tap Room Garden City\, 919 Franklin Ave\, Garden City\, NY\, 11530\, United States
ATTACH;FMTTYPE=image/png:https://kennyskornerny.com/wp-content/uploads/2025/05/kenny-flyer.png
END:VEVENT
BEGIN:VEVENT
DTSTART;TZID=UTC:20250331T190000
DTEND;TZID=UTC:20250331T213000
DTSTAMP:20260421T035933
CREATED:20250128T223649Z
LAST-MODIFIED:20250131T205822Z
UID:707-1743447600-1743456600@kennyskornerny.com
SUMMARY:An Evening with Sam Rosen and Walt Frazier: Unforgettable Stories from New York’s Sports Icons
DESCRIPTION:Join us for an unforgettable evening at An Evening with Sam Rosen and Walt Frazier: Unforgettable Stories from New York’s Sports Icons. This one-of-a-kind event brings together two legendary voices of New York sports for an intimate night of stories\, memories\, and insight. \nAttendees will enjoy a buffet spread\, three complimentary drinks\, and a professional photo opportunity with Sam and Walt. The night will feature a captivating Q&A session with these iconic broadcasters\, offering an inside look at their experiences with the Knicks\, Rangers\, and beyond. Each guest will also receive a dual-autographed\, PSA-certified 16×20 photo to commemorate the occasion. \nDon’t miss this exclusive chance to celebrate the voices and faces behind some of New York’s greatest sports moments. Tickets are limited—secure yours today! \nGet Tickets at LineLeap.com
URL:https://kennyskornerny.com/event/an-evening-with-sam-rosen-and-walt-frazier-unforgettable-stories-from-new-yorks-sports-icons/
LOCATION:Downtown Social\, 149 2nd Ave\, New York\, 10003\, United States
ATTACH;FMTTYPE=image/png:https://kennyskornerny.com/wp-content/uploads/2025/01/kennys-korner-1080-x-1080-px-3.png
END:VEVENT
END:VCALENDAR